BEGIN:VCALENDAR
VERSION:2.0
PRODID:-//Sjors van der Panne - ECPv6.15.20//NONSGML v1.0//EN
CALSCALE:GREGORIAN
METHOD:PUBLISH
X-WR-CALNAME:Sjors van der Panne
X-ORIGINAL-URL:https://sjorsvanderpanne.nl
X-WR-CALDESC:Evenementen voor Sjors van der Panne
REFRESH-INTERVAL;VALUE=DURATION:PT1H
X-Robots-Tag:noindex
X-PUBLISHED-TTL:PT1H
BEGIN:VTIMEZONE
TZID:Europe/Amsterdam
BEGIN:DAYLIGHT
TZOFFSETFROM:+0100
TZOFFSETTO:+0200
TZNAME:CEST
DTSTART:20250330T010000
END:DAYLIGHT
BEGIN:STANDARD
TZOFFSETFROM:+0200
TZOFFSETTO:+0100
TZNAME:CET
DTSTART:20251026T010000
END:STANDARD
BEGIN:DAYLIGHT
TZOFFSETFROM:+0100
TZOFFSETTO:+0200
TZNAME:CEST
DTSTART:20260329T010000
END:DAYLIGHT
BEGIN:STANDARD
TZOFFSETFROM:+0200
TZOFFSETTO:+0100
TZNAME:CET
DTSTART:20261025T010000
END:STANDARD
BEGIN:DAYLIGHT
TZOFFSETFROM:+0100
TZOFFSETTO:+0200
TZNAME:CEST
DTSTART:20270328T010000
END:DAYLIGHT
BEGIN:STANDARD
TZOFFSETFROM:+0200
TZOFFSETTO:+0100
TZNAME:CET
DTSTART:20271031T010000
END:STANDARD
END:VTIMEZONE
BEGIN:VEVENT
DTSTART;TZID=Europe/Amsterdam:20260627T200000
DTEND;TZID=Europe/Amsterdam:20260627T220000
DTSTAMP:20260423T125829
CREATED:20260325T090820Z
LAST-MODIFIED:20260325T090820Z
UID:11220-1782590400-1782597600@sjorsvanderpanne.nl
SUMMARY:Sommelsdijk | Hofstede Lust en Last
DESCRIPTION:De mooiste chansons met Sjors van der Panne onder begeleiding van Hubert-Jan Horrocks.
URL:https://sjorsvanderpanne.nl/optreden/sommelsdijk-hofstede-lust-en-last/
LOCATION:Hofstede Lust & Last\, Kokseweg 6\, Sommelsdijk\, 3245 LA
CATEGORIES:De Chansons van Sjors
ATTACH;FMTTYPE=image/jpeg:https://www.sjorsvanderpanne.nl/wp-content/uploads/2026/03/sjors-lust-en-last.jpg
END:VEVENT
END:VCALENDAR